BEGIN:VCALENDAR
VERSION:2.0
PRODID:-//wp-events-plugin.com//7.2.3.1//EN
BEGIN:VEVENT
UID:145@eurobak.kz
DTSTART:20250128T060000Z
DTEND:20250128T070000Z
DTSTAMP:20241219T081012Z
URL:https://eurobak.kz/events/kazakhstan-2025-immigration-personal-income-
 tax-and-payroll-updates/
SUMMARY:webinar\, dedicated to the topic «Kazakhstan 2025 Immigration\, Pe
 rsonal Income Tax and Payroll Updates»
DESCRIPTION:Dear EUROBAK Members\,\n\nWe would like to invite you to join a
  webinar\, dedicated to the topic «Kazakhstan 2025 Immigration\, Personal
  Income Tax and Payroll Updates».\n\nSpeakers:\n\nVialto Partners Kazakhs
 tan \n\n \n\n 	Anar Khassenova – Managing Director\n 	Assel Dussumova 
 – Senior Manager\n 	Aizhan Abdrakhman – Manager\n 	Damira Rakhimova 
 – Manager\n\n&nbsp\;\n\nDate: 28 January (Tuesday)\, 2025\n\nTime: 11.00
 -12.00\n\nFormat:  Online\, Zoom\n\nLanguage: English\n\n&nbsp\;\n\nTo co
 nfirm your participation\, please proceed with online registration no late
 r than 27 January.\n\n&nbsp\;\n\n**** **** ****\n\nУважаемые пр
 едставители компаний\, входящих в ЕВРОБА
 К\,\n\nПриглашаем Вас принять участие в ве
 бинаре по теме «Казахстан 2025: изменения 
 в области иммиграции\, налога на доход фи
 зических лиц и заработной платы»\n\n&nbsp\;\n\
 nСпикеры:\n\nVialto Partners Kazakhstan\n\n 	Анар Хасено
 ва – Управляющий директор\n 	Асель Дусум
 ова – Старший менеджер\n 	Айжан Абдрахма
 н – Менеджер\n 	Дамира Рахимова – Менедж
 ер \n\nДата: 28 января (вторник)\, 2025г\n\nВрем
 я: 11.00-12.00\n\nФормат: Онлайн\, Zoom\n\nЯзык: Англ
 ийский\n\n&nbsp\;\n\nДля подтверждения участи
 я\, пожалуйста\, пройдите онлайн регистра
 цию\, не позднее 27 января.\n\n&nbsp\;
CATEGORIES:Committies
END:VEVENT
END:VCALENDAR