BEGIN:VCALENDAR
VERSION:2.0
PRODID:-//wp-events-plugin.com//7.2.3.1//EN
BEGIN:VEVENT
UID:251@eurobak.kz
DTSTART:20251120T060000Z
DTEND:20251120T100000Z
DTSTAMP:20251029T124950Z
URL:https://eurobak.kz/events/istanbul-as-a-hub-practical-insights-for-bus
 iness-growth-in-the-cis/
SUMMARY:Istanbul as a Hub: Practical Insights for Business Growth in the CI
 S
DESCRIPTION:[embeddoc url="https://eurobak.kz/wp-content/uploads/2025/10/25
 1120-INVITATION_Business-Opportunities-in-the-CIS_Istanbul_EN-1.pdf"]
CATEGORIES:Non-EUROBAK event
END:VEVENT
END:VCALENDAR