BEGIN:VCALENDAR
VERSION:2.0
PRODID:-//wp-events-plugin.com//7.2.3.1//EN
BEGIN:VEVENT
UID:172@eurobak.kz
DTSTART:20250403T070000Z
DTEND:20250403T080000Z
DTSTAMP:20250320T083848Z
URL:https://eurobak.kz/events/invitation-to-turkish-airlines-business-lunc
 h/
SUMMARY:Invitation to Turkish Airlines Business Lunch
DESCRIPTION:Turkish Airlines is pleased to extend an invitation to a busine
 ss lunch\, organized exclusively for members of international associations
  and business chambers.\n\nDate: April 3\nTime: 12:00 PM\nVenue: Belvedere
  Hall\, Intercontinental Almaty\n\nDuring the event\, Turkish Airlines wil
 l present its corporate program\, offering exclusive benefits:\n\n 	Specia
 l rates and discounts\n 	Additional baggage allowance\n 	Flexible options 
 for route and departure date changes\n 	Ticket refund possibilities\n 	Sta
 ndard seat selection\n\nAdditionally\, attendees will have the chance to p
 articipate in a raffle for an Almaty–Istanbul–Almaty air ticket and a 
 collectible Turkish Airlines model airplane.\n\nWe would be delighted to s
 ee you at this special event!\n\nKindly confirm the participation of one r
 epresentative from your company by registering at the following link: [Reg
 istration Form] by March 31 or by email alamarketing@thy.com\n\nPS: 15 peo
 ple max for EUROBAK members
CATEGORIES:Non-EUROBAK event
END:VEVENT
END:VCALENDAR