BEGIN:VCALENDAR
VERSION:2.0
PRODID:-//wp-events-plugin.com//7.2.3.1//EN
BEGIN:VEVENT
UID:183@eurobak.kz
DTSTART:20250527T190000Z
DTEND:20250529T190000Z
DTSTAMP:20250506T105922Z
URL:https://eurobak.kz/events/interfood-astana-2025-%d1%8e%d0%b1%d0%b8%d0%
 bb%d0%b5%d0%b9%d0%bd%d0%b0%d1%8f-%d0%b2%d1%81%d1%82%d1%80%d0%b5%d1%87%d0%b
 0-%d0%bb%d0%b8%d0%b4%d0%b5%d1%80%d0%be%d0%b2-%d0%bf%d0%b8%d1%89%d0%b5%d0%b
 2%d0%be/
SUMMARY:INTERFOOD ASTANA 2025: ЮБИЛЕЙНАЯ ВСТРЕЧА ЛИДЕР
 ОВ ПИЩЕВОЙ ИНДУСТРИИ В АСТАНЕ
DESCRIPTION:[embeddoc url="https://eurobak.kz/wp-content/uploads/2025/05/An
 nounce_InterFood25.pdf"]
CATEGORIES:Non-EUROBAK event
END:VEVENT
END:VCALENDAR