BEGIN:VCALENDAR
VERSION:2.0
PRODID:-//wp-events-plugin.com//7.2.3.1//EN
BEGIN:VEVENT
UID:60@eurobak.kz
DTSTART:20231120T090000Z
DTEND:20231120T100000Z
DTSTAMP:20231108T051045Z
URL:https://eurobak.kz/events/hr-committee-universalization-of-retail-empl
 oyees/
SUMMARY:HR Committee: Universalization of retail employees
DESCRIPTION:What is employee universality? Why is it necessary\, and what b
 enefits does it bring?
CATEGORIES:Committies
END:VEVENT
END:VCALENDAR