BEGIN:VCALENDAR
VERSION:2.0
PRODID:-//wp-events-plugin.com//7.2.3.1//EN
BEGIN:VEVENT
UID:46@eurobak.kz
DTSTART:20230929T090000Z
DTEND:20230929T120000Z
DTSTAMP:20230911T030703Z
URL:https://eurobak.kz/events/hr-committee-health-care-in-the-workplace/
SUMMARY:HR Committee: health care in the workplace
DESCRIPTION:How to prevent illness in the workplace\, automation of pre-shi
 ft medical examination\, ergonomics in the workplace
CATEGORIES:Committies
LOCATION:Mediker International Hospital\, 67 Azerbayeva st.\, Almaty\, Kaza
 khstan\, Kazakhstan
X-APPLE-STRUCTURED-LOCATION;VALUE=URI;X-ADDRESS=67 Azerbayeva st.\, Almaty\
 , Kazakhstan\, Kazakhstan;X-APPLE-RADIUS=100;X-TITLE=Mediker International
  Hospital:geo:0,0
END:VEVENT
END:VCALENDAR