BEGIN:VCALENDAR
VERSION:2.0
PRODID:-//wp-events-plugin.com//7.2.3.1//EN
BEGIN:VEVENT
UID:62@eurobak.kz
DTSTART:20231124T090000Z
DTEND:20231124T100000Z
DTSTAMP:20231214T031612Z
URL:https://eurobak.kz/events/hr-committee-grading/
SUMMARY:HR Committee: Grading
DESCRIPTION:Why doesn’t classic grading work? Skill based payment - what 
 is it\, what is the difference from classic grading\, and other questions 
 will be discussed during the webianr
CATEGORIES:Committies
END:VEVENT
END:VCALENDAR