BEGIN:VCALENDAR
VERSION:2.0
PRODID:-//wp-events-plugin.com//7.2.3.1//EN
BEGIN:VEVENT
UID:32@eurobak.kz
DTSTART:20230531T090000Z
DTEND:20230531T100000Z
DTSTAMP:20230517T042547Z
URL:https://eurobak.kz/events/hr-committee-changes-in-labor-code-related-t
 o-dispute-resolution/
SUMMARY:HR Committee: changes in Labor Code related to dispute resolution
DESCRIPTION:We invite you to EUROBAK HR Committee’s meeting\, dedicated t
 o the discussion of changes in Labor Code related to dispute resolution. 
CATEGORIES:Committies
END:VEVENT
END:VCALENDAR