BEGIN:VCALENDAR
VERSION:2.0
PRODID:-//wp-events-plugin.com//7.2.3.1//EN
BEGIN:VEVENT
UID:45@eurobak.kz
DTSTART:20230919T090000Z
DTEND:20230919T100000Z
DTSTAMP:20230907T051552Z
URL:https://eurobak.kz/events/hr-committee-artificial-intelligence-in-recr
 uitment/
SUMMARY:HR Committee: Artificial intelligence in recruitment
DESCRIPTION:Definition and types of AI\, its use in recruiting\;  Applicati
 on examples and benefits of AI\; Problems of practical application
CATEGORIES:Committies
END:VEVENT
END:VCALENDAR