BEGIN:VCALENDAR
VERSION:2.0
PRODID:-//wp-events-plugin.com//7.2.3.1//EN
BEGIN:VEVENT
UID:68@eurobak.kz
DTSTART:20231213T050000Z
DTEND:20231213T060000Z
DTSTAMP:20231214T031355Z
URL:https://eurobak.kz/events/healthcare-committee-protection-of-intellect
 ual-property-in-the-medicines-market-of-rk/
SUMMARY:Healthcare Committee: protection of intellectual property in the me
 dicines market of RK
DESCRIPTION:Join an online meeting of Healthcare Committee dedicated to the
  discussion of protection of intellectual property in the medicines market
  of the Republic of Kazakhstan.
CATEGORIES:Committies
END:VEVENT
END:VCALENDAR