BEGIN:VCALENDAR
VERSION:2.0
PRODID:-//wp-events-plugin.com//7.2.3.1//EN
BEGIN:VEVENT
UID:209@eurobak.kz
DTSTART:20250902T040000Z
DTEND:20250902T060000Z
DTSTAMP:20250829T123102Z
URL:https://eurobak.kz/events/fmcg-tracktrace-round-table/
SUMMARY:FMCG Track&#038\;Trace Round Table 
DESCRIPTION:Dear EUROBAK Members\,\n\nWe are pleased to invite you to FMCG 
 Track&amp\;Trace Round Table\n\n&nbsp\;\n\nDate: 2 September 2025\n\nTime:
  09:00 – 11:00\n\nVenue: Belvedere Room (T floor)\, InterContinental Hot
 el Almaty\, 181 Zheltoksan st\n\nLanguage: English\n\nThis event is open t
 o FMCG companies ONLY that are members of EUROBAK and AmCham.\n\nThe round
  table will serve as a platform to exchange views\, share insights\, and d
 iscuss the key challenges and opportunities related to Track &amp\; Trace 
 implementation in the FMCG industry.\n\n&nbsp\;\n\nTo confirm your partici
 pation\, please complete the online registration by 29 August.\n\n&nbsp\;\
 n\nOpen to EUROBAK and AmCham members\n\nSupported by: Efes\n\n&nbsp\;\n\n
 AGENDA:\n\n&nbsp\;\n\n[embeddoc url="https://eurobak.kz/wp-content/uploads
 /2025/08/EUROBAK-Agenda-FMCG-Round-Table.pdf"]\n\n&nbsp\;
CATEGORIES:Committies
END:VEVENT
END:VCALENDAR