BEGIN:VCALENDAR
VERSION:2.0
PRODID:-//wp-events-plugin.com//7.2.3.1//EN
BEGIN:VEVENT
UID:48@eurobak.kz
DTSTART:20231009T043000Z
DTEND:20231009T063000Z
DTSTAMP:20230912T021803Z
URL:https://eurobak.kz/events/fmcg-round-table-on-economic-overview/
SUMMARY:FMCG Round Table on economic overview
DESCRIPTION:We invite you to join a round table discussion dedicated to cur
 rent economic outlook and forecast.
CATEGORIES:Business
LOCATION:InterContinental Hotel\, Zheltoksan\, 181\, Almaty\, Kazakhstan
X-APPLE-STRUCTURED-LOCATION;VALUE=URI;X-ADDRESS=Zheltoksan\, 181\, Almaty\,
  Kazakhstan;X-APPLE-RADIUS=100;X-TITLE=InterContinental Hotel:geo:0,0
END:VEVENT
END:VCALENDAR