BEGIN:VCALENDAR
VERSION:2.0
PRODID:-//wp-events-plugin.com//7.2.3.1//EN
BEGIN:VEVENT
UID:139@eurobak.kz
DTSTART:20241113T073000Z
DTEND:20241113T083000Z
DTSTAMP:20241106T105827Z
URL:https://eurobak.kz/events/fmcg-committee-working-meeting-on-extended-p
 roducer-responsibility/
SUMMARY:FMCG Committee working meeting on extended producer responsibility
DESCRIPTION:EUROBAK’s FMCG Committee is developing a proposal for impleme
 nting industrial extended producer responsibility initiatives.\nWe have al
 ready made significant progress on this topic in the past. At this stage\
 , a meeting within the Association is being organized for all interested p
 arties to discuss the next steps in advancing this initiative.
CATEGORIES:Committies
END:VEVENT
END:VCALENDAR