BEGIN:VCALENDAR
VERSION:2.0
PRODID:-//wp-events-plugin.com//7.2.3.1//EN
BEGIN:VEVENT
UID:98@eurobak.kz
DTSTART:20240505T210000Z
DTEND:20240505T220000Z
DTSTAMP:20240425T091857Z
URL:https://eurobak.kz/events/first-meeting-of-the-working-group-on-techni
 cal-regulation-and-certification/
SUMMARY:First meeting of the working group on Technical regulation and cert
 ification
DESCRIPTION:
CATEGORIES:Committies
END:VEVENT
END:VCALENDAR