BEGIN:VCALENDAR
VERSION:2.0
PRODID:-//wp-events-plugin.com//7.2.3.1//EN
BEGIN:VEVENT
UID:218@eurobak.kz
DTSTART:20251129T140000Z
DTEND:20251129T170000Z
DTSTAMP:20251126T122804Z
URL:https://eurobak.kz/events/festive-dinner/
SUMMARY:Festive Dinner
DESCRIPTION:\nDear EUROBAK Members\,\nWe are delighted to invite you to EUR
 OBAK Executive Festive Dinner — a special evening of celebration\, conne
 ction\, and festive spirit!\nDate: 29 November (Saturday) 2025\nTime: 19:0
 0–22:00\nVenue: Ballroom\, L Floor\, InterContinental Hotel\, 181 Zhelto
 ksan Str.\nLanguage: English\nDress code: Cocktail attire\nThis year’s F
 estive Dinner will be a truly special occasion as we continue celebrating 
 the 25th anniversary of EUROBAK\, marking an important milestone in EUROBA
 K’s long-standing contribution to Kazakhstan’s business community.\nTh
 e evening will feature elegant dining\, live entertainment\, and a joyful 
 atmosphere — a wonderful opportunity to connect\, celebrate\, and enjoy 
 the spirit of EUROBAK community.\n\n\n 	The one-time membership fee for E
 UROBAK Members is 65\,000 KZT per person\n 	Member companies have the op
 portunity to book a table for 10 people at 600\,000 KZT\n 	For Non-member
 s the one-time membership fee is 90\,000 KZT per person.\n\nPlease compl
 ete your registration no later than 21 November.\n\n&nbsp\;\n\n\nУваж
 аемые компании\, входящие в ЕВРОБАК\,\nМы 
 рады пригласить вас на EUROBAK Executive Festive Dinner
  — особое событие\, которое объединит уч
 астников Ассоциации в тёплой и торжеств
 енной атмосфере!\nДата: 29 ноября (суббота)
  2025 года\nВремя: 19:00–22:00\nМесто проведения
 : Ballroom\, этаж L\, отель InterContinental\, ул. Желток
 сан\, 181\nЯзык мероприятия: английский\nДр
 есс-код: коктейльный\nВ этом году EUROBAK Execut
 ive Festive Dinner станет по-настоящему особенны
 м событием\, ведь мы продолжаем отмечать 
 25-летний юбилей ЕВРОБАК\, знаменующий ва
 жный этап вклада Ассоциации в развитие б
 изнес-сообщества Казахстана.\nГостей жду
 т изысканный ужин\, живая музыка и праздн
 ичная атмосфера — отличная возможность 
 встретиться\, пообщаться и почувствоват
 ь дух сообщества ЕВРОБАК.\n• Единоразовы
 й членский взнос для участников ЕВРОБАК 
 составляет 65 000 тенге с человека.• Компа
 нии-члены имеют возможность забронирова
 ть стол на 10 человек\, единоразовый членс
 кий взнос 600 000 тенге.• Для не-членов разо
 вый членский взнос составляет 90 000 тенге 
 с человека.\nПросим пройти регистрацию н
 е позднее 21 ноября.
CATEGORIES:Business
END:VEVENT
END:VCALENDAR