BEGIN:VCALENDAR
VERSION:2.0
PRODID:-//wp-events-plugin.com//7.2.3.1//EN
BEGIN:VEVENT
UID:210@eurobak.kz
DTSTART:20250916T050000Z
DTEND:20250916T080000Z
DTSTAMP:20250825T134717Z
URL:https://eurobak.kz/events/ey-%d1%81%d0%b5%d0%bc%d0%b8%d0%bd%d0%b0%d1%8
 0-%d0%ba%d0%be%d0%b4%d0%b5%d0%ba%d1%81next-%d0%b0%d1%82%d1%8b%d1%80%d0%b0%
 d1%83/
SUMMARY:EY Семинар КодексNext – Атырау
DESCRIPTION:\n\n\n\n\n\n\n\n\nEY Семинар КодексNext - Атыр
 ау\nНефтегазовый сектор: налоговое плани
 рование в условиях изменений\nЗарегистр
 ироваться\n\n\nУважаемые коллеги!\n\nНефтег
 азовая отрасль — одна из самых чувствит
 ельных к налоговым и регуляторным измен
 ениям. Новая редакция Налогового кодекс
 а вносит ряд поправок\, которые напрямую 
 влияют на условия недропользования\, рас
 чет обязательств и финансовое планирова
 ние проектов.\n\n16 сентября 2025 года\, 10:00–13
 :00 приглашаем вас в Renaissance Atyrau Hotel на офла
 йн-семинар\, организованный при поддержк
 е PetroCouncil и EUROBAK. Эксперты EY представят пр
 актический обзор ключевых изменений\, уд
 елив особое внимание налогообложению не
 дропользователей\, а также вопросам корп
 оративных налогов\, НДС\, международных о
 пераций и всеобщего декларирования.\n\nВ 
 программе:\n• Общая часть Налогового код
 екса\n• Налоговые проверки и камеральны
 й контроль\n• Изменения по КПН и НДС\n• М
 еждународное налогообложение\n• Налого
 обложение недропользователей: раздельн
 ый учет\, возврат НДС\, подписной бонус\, р
 ентный налог\, НДПИ\, альтернативный нало
 г на недропользование и другие обязател
 ьства\n• Налоговые преференции\n• Налог
 ообложение физических лиц и всеобщее де
 кларирование\n\nСпикеры:\n• Роман Юртаев\,
  партнер EY\, корпоративное налогообложен
 ие\n• Светлана Чебан\, партнер EY\, корпора
 тивное налогообложение\n• Айгуль Бикеба
 ева\, старший менеджер\, международное на
 логообложение\n• Динара Салихзянова\, ст
 арший менеджер\, юридические услуги\n• Е
 катерина Жгутова\, старший менеджер\, кор
 поративное налогообложение\n• Юлия Азим
 баева\, старший менеджер\, индивидуально
 е налогообложение\n\n📅 Дата и время: 16 се
 нтября 2025 года\, 10:00–13:00\n📍 Место: Renaissance A
 tyrau Hotel\, ул. Сатпаева\, 15\, Атырау\nℹ️ Онла
 йн-трансляция не предусмотрена\n\n\n\nПри п
 оддержке\n\n                        \n\n\n\n\n\n\n\n\n
 \nЗарегистрироваться\nПосле регистрации 
 вы получите подтверждение и инструкцию 
 для доступа на мероприятие.\n\nВ случае во
 зникновения вопросов\, пожалуйста\, обра
 щайтесь к Darya.Tsygankova@kz.ey.com\n\nУзнайте больш
 е о нашей программе EY КодексNext и других м
 ероприятиях.\nС уважением\,\nКоманда EY\n\n
CATEGORIES:Non-EUROBAK event
END:VEVENT
END:VCALENDAR