BEGIN:VCALENDAR
VERSION:2.0
PRODID:-//wp-events-plugin.com//7.2.3.1//EN
BEGIN:VEVENT
UID:211@eurobak.kz
DTSTART:20250923T050000Z
DTEND:20250923T080000Z
DTSTAMP:20250828T101005Z
URL:https://eurobak.kz/events/ey-%d1%81%d0%b5%d0%bc%d0%b8%d0%bd%d0%b0%d1%8
 0-%d0%ba%d0%be%d0%b4%d0%b5%d0%ba%d1%81next-%d0%b0%d0%ba%d1%82%d0%b0%d1%83/
SUMMARY:EY Семинар Кодекс Next – Актау
DESCRIPTION:\n\n\n\n\nEY Семинар КодексNext - Актау\nНе
 фтегазовый сектор: налоговое планирован
 ие в условиях изменений\n&nbsp\;\nЗарегистри
 роваться\n\n\nУважаемые коллеги!\n\nНефтега
 зовая отрасль — одна из самых чувствите
 льных к налоговым и регуляторным измене
 ниям. Новая редакция Налогового кодекса 
 вносит ряд поправок\, которые напрямую в
 лияют на условия недропользования\, расч
 ет обязательств и финансовое планирован
 ие проектов.\n\n23 сентября 2025 года\, 10:00–13:0
 0 приглашаем вас в Renaissance by Sulo (Актау) на о
 флайн-семинар\, организованный при подде
 ржке PetroCouncil и EUROBAK. Эксперты EY представят
  практический обзор ключевых изменений\,
  уделив особое внимание налогообложению
  недропользователей\, а также вопросам к
 орпоративных налогов\, НДС\, международн
 ых операций и всеобщего декларирования.\
 n\nВ программе:\n• Общая часть Налогового 
 кодекса\n• Налоговые проверки и камерал
 ьный контроль\n• Изменения по КПН и НДС\n
 • Международное налогообложение\n• Нал
 огообложение недропользователей: разде
 льный учет\, возврат НДС\, подписной бону
 с\, рентный налог\, НДПИ\, альтернативный 
 налог на недропользование и другие обяз
 ательства\n• Налоговые преференции\n• Н
 алогообложение физических лиц и всеобще
 е декларирование\n\nСпикеры:\n• Роман Юрт
 аев\, партнер EY\, корпоративное налогообл
 ожение\n• Светлана Чебан\, партнер EY\, кор
 поративное налогообложение\n• Айгуль Би
 кебаева\, старший менеджер\, международн
 ое налогообложение\n• Динара Салихзянов
 а\, старший менеджер\, юридические услуги
 \n• Екатерина Жгутова\, старший менеджер\
 , корпоративное налогообложение\n• Юлия 
 Азимбаева\, старший менеджер\, индивидуа
 льное налогообложение\n\n\n📅 Дата и время
 : 23 сентября 2025 года\, 10:00–13:00\n📍 Место: Rena
 issance by Sulo\, 9-й микрорайон\, 1/1\, г.Актау\nℹ️ 
 Онлайн-трансляция не предусмотрена\n\n\nП
 ри поддержке\n\n\n\n          \n\n\nЗарегистрир
 оваться\n\nПосле регистрации вы получите 
 подтверждение и инструкцию для доступа 
 на мероприятие.\n\nВ случае возникновения
  вопросов\, пожалуйста\, обращайтесь к Darya
 .Tsygankova@kz.ey.com\n\nУзнайте больше о программе
  КодексNext и наших других мероприятиях.\nС
  уважением\,\nКоманда EY\n\n\nОтписаться\n\n
CATEGORIES:Non-EUROBAK event
END:VEVENT
END:VCALENDAR