BEGIN:VCALENDAR
VERSION:2.0
PRODID:-//wp-events-plugin.com//7.2.3.1//EN
BEGIN:VEVENT
UID:250@eurobak.kz
DTSTART:20251118T080000Z
DTEND:20251118T113000Z
DTSTAMP:20251029T124601Z
URL:https://eurobak.kz/events/expanding-horizons-practical-insights-for-bu
 siness-growth-in-the-cis/
SUMMARY:Expanding Horizons: Practical Insights for Business Growth in the C
 IS
DESCRIPTION:[embeddoc url="https://eurobak.kz/wp-content/uploads/2025/10/25
 1118-INVITATION_Business-Opportunities-in-the-CIS_Vienna_EN.pdf"]
CATEGORIES:Non-EUROBAK event
END:VEVENT
END:VCALENDAR