BEGIN:VCALENDAR
VERSION:2.0
PRODID:-//wp-events-plugin.com//7.2.3.1//EN
BEGIN:VEVENT
UID:89@eurobak.kz
DTSTART:20240515T102000Z
DTEND:20240515T133000Z
DTSTAMP:20240510T033314Z
URL:https://eurobak.kz/events/executive-get-together-regional-cooperation/
SUMMARY:Executive Get Together Regional Cooperation: AMCHAMs and EUROBAK
DESCRIPTION:Dear EUROBAK Executives\,\n\n&nbsp\;\n\nWe invite you to join E
 xecutive Get Together Regional Cooperation: AMCHAMs and EUROBAK. \n\n \n\
 nPlease find the detailed agenda attached.\n\n&nbsp\;\n\nDuring this meeti
 ng we would have presentations on the following topics:\n\n&nbsp\;\n\n 	Re
 gional Economic Overview - Ekaterina Benjamin\, IFC Country Officer for th
 e Republic of Kazakhstan\n\n&nbsp\;\n\n 	Cost of living crisis and shopper
  behavior – Madina Seisengaliyeva\, Commercial Director\, NielsenIQ Kaza
 khstan\n\n&nbsp\;\n\nAfter the official part of the event\, guests will en
 joy a cocktail reception.\n\n \n\nDate: 15 May (Wednesday) 2024\n\nTime: 
 15.20-18.30 (welcoming coffee and networking from 15:00)\n\nVenue: Astana 
 room (C floor)\, Intercontinental Hotel Almaty\, 181 Zheltoksan Str.\n\nLa
 nguage: English\n\n&nbsp\;\n\nTo confirm your participation\, please proce
 ed with online registration or send a request to event@eurobak.kz\, no lat
 er than 10 May. Please kindly note that this event is open only for execut
 ive top team of EUROBAK Member companies.
CATEGORIES:Business,Networking
END:VEVENT
END:VCALENDAR