BEGIN:VCALENDAR
VERSION:2.0
PRODID:-//wp-events-plugin.com//7.2.3.1//EN
BEGIN:VEVENT
UID:178@eurobak.kz
DTSTART:20250429T060000Z
DTEND:20250429T080000Z
DTSTAMP:20250428T120205Z
URL:https://eurobak.kz/events/executive-get-together-investing-in-kazakhst
 an-economic-climate-and-corporate-impact/
SUMMARY:Executive Get Together: Investing in Kazakhstan: Economic Climate a
 nd Corporate Impact
DESCRIPTION:\n\nDear EUROBAK Members\,\n\nWe are pleased to invite you to t
 he Executive Get Together: Investing in Kazakhstan: Economic Climate and C
 orporate Impact.\n\nThe event will bring together senior executives and in
 ternational experts to explore the regional economic outlook and discuss h
 ow companies contribute to Kazakhstan’s sustainable development through 
 strategic investment.\n\n&nbsp\;\n\nDate: 29 April\n\nTime: 11:00 – 13:0
 0 (11:00-11:30 coffee and networking)\n\nFormat: Offline/Online\n\nVenue: 
 Astana room (C floor)\, Intercontinental Hotel Almaty\, 181 Zheltoksan Str
 \n\nLanguage: English\n\nThis event is open to Executive teams of EUROBAK 
 Member companies.\n\n&nbsp\;\n\nAgenda\n\nWelcoming speech by Julie Kussid
 i\, EUROBAK CEO\n\nWelcoming speech by Veli Dinçel\, Coca-Cola Içecek Ka
 zakhstan General Manager\n\n&nbsp\;\n\nPresentations and discussion: \n\n-
  Regional Economic Prospects – Central Asia – Hüseyin Özhan\, Managi
 ng Director Central Asia and Mongolia\, EBRD Kazakhstan\n\n- Beyond Profit
 : The Coca-Cola System total contribution to the sustainable development o
 f the Republic of Kazakhstan in 2013─2023 – Victor Kovalenko\, EY Cauc
 asus and Central Asia Climate Change and Sustainability Services Leader\, 
 Partner\n\n- From Investment to Impact – Alima Issembayeva\, Director Pu
 blic Affairs and Communications Coca-Cola Içecek Kazakhstan\n\nThe event 
 is held in partnership with Coca-Cola Içecek Kazakhstan.\n\nTo confirm yo
 ur participation\, please complete the online registration by 25 April 202
 5.\n\nWe look forward to welcoming you!\n\nThe event will be held in a hyb
 rid format\, with live streaming available on EUROBAK platforms. The link 
 to the event will be shared closer to the date.\n\n&nbsp\;
CATEGORIES:Business
END:VEVENT
END:VCALENDAR