BEGIN:VCALENDAR
VERSION:2.0
PRODID:-//wp-events-plugin.com//7.2.3.1//EN
BEGIN:VEVENT
UID:164@eurobak.kz
DTSTART:20250312T060000Z
DTEND:20250312T080000Z
DTSTAMP:20250311T113155Z
URL:https://eurobak.kz/events/executive-get-together-human-capital-2/
SUMMARY:EUROBAK Event within HR Committee: Human Capital
DESCRIPTION:We are pleased to invite you to EUROBAK Event within HR Committ
 ee: Human Capital\n\n&nbsp\;\n\nThis event is open for Executive team of E
 UROBAK Members. \n\nWe are pleased to invite you to Executive Get Together
 : Human Capital.\n\n&nbsp\;\n\nDate: 12 March\n\nTime: 11:00 – 13:00\n\n
 Format: Offline\n\nVenue: Apport Ballroom\, HolidayInn\, Almaty\, Timiryaz
 ev\, 2Д\n\nLanguage: English\n\n&nbsp\;\n\nAgenda\n\n11.00-11.30 - Coffee
  and Networking\n\n11:30-11:35 - Welcoming by Julie Kussidi\, EUROBAK CEO\
 n\n11:35-11:20 - Presentations and discussion'\n\n&nbsp\;\n\nSpeakers:\n\n
 Compensation and Benefits Survey 2024/2025 by Vladimir Fesenko\,EY Kazakhs
 tan Tax &amp\; Law Partner\, Head of People Advisory Services\n\nKazakhsta
 n’s Employment Landscape: Market Realities\, Candidate Expectations\, an
 d Hiring Challenges by Elina Dadabayeva\, CEO\, Eiger Kazakhstan\n\nUnders
 tanding key cultural factors and how to address them to reduce employee tu
 rnover by Alan Ibraim\, CEO\, Sezim\n\n&nbsp\;\n\n12:20 -13.00 - Q&amp\;A 
 session and closing remarks\n\n&nbsp\;\n\nThe one-time membership fee for 
 EUROBAK Members is 12\,000 KZT per person\n\n&nbsp\;\n\nTo confirm your pa
 rticipation\, please complete the online registration by 11 March
CATEGORIES:Business
END:VEVENT
END:VCALENDAR