BEGIN:VCALENDAR
VERSION:2.0
PRODID:-//wp-events-plugin.com//7.2.3.1//EN
BEGIN:VEVENT
UID:274@eurobak.kz
DTSTART:20260226T053000Z
DTEND:20260226T080000Z
DTSTAMP:20260225T122222Z
URL:https://eurobak.kz/events/executive-get-together-helicopter-regional-v
 iew/
SUMMARY:Executive Get Together: Helicopter Regional View
DESCRIPTION:Dear EUROBAK Members\,\n\n&nbsp\;\n\nEUROBAK is pleased to invi
 te you to join our Executive Get Together: Helicopter Regional View\, a t
 raditional event that brings together senior Executives from Member compan
 ies for Chatham House Rules discussions on key business trends and economi
 c developments.\n\nDate: 26 February 2026\n\nTime: 10:30–13:00 (coffee
  break starts at 10.30)\n\nFormat: Offline (Chatham House Rules) \n\nVenu
 e: Intercontinental Hotel Almaty\, T floor\, Belvedere room\n\nLanguage: 
 English\n\n \n\nAgenda \n\nWelcoming speech by Julie Kussidi\, EUROBAK C
 EO\n\nSpeakers:\n\nPavel Melnikov\, Managing Director for Central Asia\, t
 he South Caucasus and Mongolia\, Aretera Public Affairs\n\nPavel Khegay\, 
 Chairperson of EUROBAK Healthcare Committee\, General Director of Gedeon R
 ichter\n\nMesut Doğukan\, CEO METRO\, Kazakhstan\n\n \n\nCovering extens
 ive agenda and further open discussion:\n\n&nbsp\;\n\nRisks and Growth Poi
 nts of Central Asia – 2026: A Practical Guide for Investors and Companie
 s\n\n \n\n 	 Macro Outlook on Central Asia: Key Risks in 2026\n 	Macroeco
 nomic Risks\n\n\n 	Budget deficits\n 	Inflation\n 	Rising indebtedness of 
 households and businesses\n\n\n 	Investment Constraints\n 	Resource Risks\
 n\n\n 	Water crisis\n 	Energy shortages\n\n\n 	Socio-Demographic Risks\n\n
 \n 	Migration flows\n 	Dependence on remittances\n\n\n 	Infrastructure Ris
 ks\n\n\n 	Infrastructure deterioration\n 	Effectiveness of Special Economi
 c Zones (SEZs)\n\n\n 	Agro-Environmental Risks\n\n\n 	Soil salinization\n 
 	Declining agricultural productivity\n\n \n\n 	 Macro Outlook on Central 
 Asia: Key Opportunities in 2026\n 	Potential Repeal of the Jackson–Vanik
  Amendment for Central Asian Countries\n 	Implementation of Major Infrastr
 ucture Projects and State Programs\n 	Development of the C5+1 Format and S
 trengthening of International Cooperation\n 	Large-Scale Digitalization of
  the Economy and Public Administration\n 	Growth of the Transport and Logi
 stics Sector and New Transit Corridors\n 	Development of Circular Economy\
 , Renewable Energy Sources\, and Groundwater Exploration\n\n \n\nIII. Kaz
 akhstan in Focus: Regulatory Shift – 2026: State Logic and Policy Object
 ives\n\n 	Key Areas of Regulatory Tightening and Transformation\n 	The “
 Regulatory Iceberg” of Areté: Hidden and Indirect Regulatory Risks for 
 Business\n\n&nbsp\;\n\n 	 Kazakhstan in Focus: Enhancing Investment Attrac
 tiveness\n 	Promising Investment Sectors and Priority Directions\n 	Practi
 cal Takeaways for Investors and Businesses\n\n\n 	Models of engagement wit
 h the state\n 	Recommendations for mitigating regulatory risks\n\n\nThe on
 e-time membership fee for EUROBAK Members is 12\,000 KZT per person.\n\
 nFor Non-members the one-time membership fee is 30\,000 KZT per person.
 \n\n&nbsp\;\n\nTo confirm your participation\, please complete the online
  registration by 23 February 2026.\n\nWe look forward to welcoming you!
CATEGORIES:Business
END:VEVENT
END:VCALENDAR