BEGIN:VCALENDAR
VERSION:2.0
PRODID:-//wp-events-plugin.com//7.2.3.1//EN
BEGIN:VEVENT
UID:85@eurobak.kz
DTSTART:20240422T070000Z
DTEND:20240422T080000Z
DTSTAMP:20240416T094453Z
URL:https://eurobak.kz/events/executive-get-together-companies-reporting-o
 n-esg-commitments/
SUMMARY:Executive Get Together: Companies’ Reporting on ESG Commitments
DESCRIPTION:Dear EUROBAK Executives\,\n\n&nbsp\;\n\nWe invite you to join E
 UROBAK Executive Get Together\, the discussion dedicated to Companies' Rep
 orting on ESG Commitments.\n\nDuring this meeting we would have presentati
 ons on the following topics:\n\n 	Opening speech by Diyas Assanov\, EUROBA
 K Deputy Chairman\, Chairperson of the Executive team of the EUROBAK ESG C
 ommittee\, CEO\, Siemens Kazakhstan\n\n-           Sustainable D
 evelopment: What Companies Need to Know About ESG Concepts and Legal Regul
 ation in 2024 - Korlan Alikhanova\, Associate Partner\, Rödl &amp\; Partn
 er\n\n-           How to build a sustainable chain – Yuliya Ya
 kupbayeva\, Partner\, GPI Group\n\n-           ADCB integrated a
 pproach to ESG management - Assel Aimanova\, Advisor to CEO\, Al Hilal Kaz
 akhstan\n\nDate:               22 April (Monday) 2024\n\nTime:  
             12:00 – 13:00\n\nFormat:        Online\, Zoom\n\nL
 anguage:    English\n\n&nbsp\;\n\nTo confirm your participation\, please
  proceed with Online Registration or send a request to eurobak@eurobak.kz\
 , no later than 19 April. Please kindly note that this event is open only 
 for executive top team of EUROBAK Member companies.
CATEGORIES:Committies
END:VEVENT
END:VCALENDAR