BEGIN:VCALENDAR
VERSION:2.0
PRODID:-//wp-events-plugin.com//7.2.3.1//EN
BEGIN:VEVENT
UID:213@eurobak.kz
DTSTART:20250912T070000Z
DTEND:20250912T082000Z
DTSTAMP:20250904T112520Z
URL:https://eurobak.kz/events/executive-bussines-connect/
SUMMARY:Executive Bussines Connect
DESCRIPTION:Уважаемые представители компаний\
 , входящих в ЕВРОБАК\,\n\nЕВРОБАК приглаша
 ет вас принять участие на мероприятии: EUR
 OBAK Business Connect в рамках Платформы по профес
 сиональному развитию женщин в бизнесе и 
 советах директоров\n\nДата: 12 сентября 2025\
 n Время: 12:00 – 13:20\n Формат: онлайн\nЯзык м
 ероприятия: русский\n\nСпикеры:\n\nМадина И
 збассова\, Руководитель отдела цепочки п
 оставок и логистики\, Metro Cash and Carry\nТатьян
 а Горбачева\, Соучредитель и директор AXISA
  AUDIT KZ\, Бизнес–советник Netcracker\nИрина Тур
 алиева\, Партнёр-учредитель\, IBCU\n\nВ центр
 е обсуждения — как создать сильную кома
 нду\, построить успешный бизнес в Казахс
 тане и развивать финансовую грамотность
  сотрудников.\nНе упустите возможность с
 тать частью дискуссии — регистрируйтес
 ь и присоединяйтесь онлайн!\n\nДля подтве
 рждения вашего участия\, пожалуйста\, про
 йдите онлайн-регистрацию не позднее 11 с
 ентября.\n\n&nbsp\;\n\nБудем рады видеть вас на
  мероприятии!\n\n&nbsp\;
CATEGORIES:Networking
END:VEVENT
END:VCALENDAR