BEGIN:VCALENDAR
VERSION:2.0
PRODID:-//wp-events-plugin.com//7.2.3.1//EN
BEGIN:VEVENT
UID:142@eurobak.kz
DTSTART:20241205T090000Z
DTEND:20241205T103000Z
DTSTAMP:20241128T045945Z
URL:https://eurobak.kz/events/event-within-hr-committee-self-actualization
 -regaining-balance-by-breaking-limiting-beliefs-at-kimep-university/
SUMMARY:Event within HR Committee: Self-actualization: Regaining Balance by
  Breaking Limiting Beliefs at KIMEP University
DESCRIPTION:Dear EUROBAK Members\,\n\nWe would like to invite you to the ev
 ent within HR Committee: Self-actualization: Regaining Balance by Breaking
  Limiting Beliefs at KIMEP University.\n\n\n\nDate:\n5 December (Tuesday)
 \, 2024\n\n\nTime:\n14:00-15:30\n\n\nVenue\nAlmaty\, KIMEP University\, 2 
 Abay ave.\n\n\nLanguage:\nEnglish (translation will be provided upon reque
 st)\n\n\n\n&nbsp\;\n\nDiscover valuable strategies for personal and profes
 sional development with Prof. Herman Grobler\, an expert in psychology and
  mental well-being.\n\nThe event will also provide an opportunity to conne
 ct with colleagues and share perspectives in a welcoming atmosphere.\n\n&n
 bsp\;\n\nExpert Speaker:\n\n \n\nProf. Herman Grobler  - Herman Grobler 
 started his academic career in 2002 in South Africa. He obtained a PhD in 
 Psychology and a doctorate in Play Therapy. He has taught undergraduate an
 d postgraduate courses\, with research and teaching focuses on mental heal
 th and well-being. He shows a special interest in identity development wit
 hin a relational context. His contributions extend to national and interna
 tional publications\, along with presentations delivered at national and i
 nternational conferences. He is a certified life coach and has worked in p
 rivate practice for numerous years. He taught and presented workshops inte
 rnationally and currently holds the position of professor at KIMEP Univers
 ity in Almaty\, Kazakhstan.\n\n&nbsp\;\n\nTo apply for attendance\, please
  kindly proceed with an Online Registration no later than December 2.\n\n
CATEGORIES:Committies
END:VEVENT
END:VCALENDAR