BEGIN:VCALENDAR
VERSION:2.0
PRODID:-//wp-events-plugin.com//7.2.3.1//EN
BEGIN:VEVENT
UID:31@eurobak.kz
DTSTART:20230526T040000Z
DTEND:20230526T050000Z
DTSTAMP:20230512T052822Z
URL:https://eurobak.kz/events/eurobak-tax-committee-2/
SUMMARY:EUROBAK Tax Committee
DESCRIPTION:Constitutional Court: as an instrument for protecting the right
 s of taxpayers
CATEGORIES:Committies
END:VEVENT
END:VCALENDAR