BEGIN:VCALENDAR
VERSION:2.0
PRODID:-//wp-events-plugin.com//7.2.3.1//EN
BEGIN:VEVENT
UID:116@eurobak.kz
DTSTART:20240610T060000Z
DTEND:20240610T070000Z
DTSTAMP:20240606T090328Z
URL:https://eurobak.kz/events/eurobak-talk-interview-with-with-khachat-mar
 khiyeva-ceo-of-metro-kazakhstan/
SUMMARY:EUROBAK Talk: Interview with with Khachat Markhiyeva\, CEO of METRO
  Kazakhstan
DESCRIPTION:Dear EUROBAK Members\,\n\nWe would like to invite you to join E
 UROBAK Talk: Interview with with Khachat Markhiyeva\, CEO of METRO Kazakhs
 tan dedicated to the Taking Off in Turbulent Conditions: Company Developme
 nt and How METRO Supports Employees in Building Their Careers.\n\n\nPlea
 se note that the open interview will be conducted in a new format\, on Lin
 kedIn. To participate\, kindly follow the link provided.\n\n&nbsp\;\n\nOr 
 follow the link to register through the EUROBAK website\n\n&nbsp\;\n\n\n\n
 Date:\n10 June (Monday)\, 2024\n\n\nTime:\n11.00-12.00\n\n\nFormat: \nOnl
 ine\, LinkedIn\n\n\nLanguage:\nEnglish\n\n\n
CATEGORIES:Networking
END:VEVENT
END:VCALENDAR