BEGIN:VCALENDAR
VERSION:2.0
PRODID:-//wp-events-plugin.com//7.2.3.1//EN
BEGIN:VEVENT
UID:103@eurobak.kz
DTSTART:20240521T063000Z
DTEND:20240521T073000Z
DTSTAMP:20240520T044322Z
URL:https://eurobak.kz/events/eurobak-talk-interview-with-todd-flanagan/
SUMMARY:EUROBAK Talk: Interview with Todd Flanagan
DESCRIPTION:Dear EUROBAK Members\,\n\nWe would like to invite you to join E
 UROBAK Talk: Interview with Todd Flanagan\, Head of Kazakhstan Internation
 al School Astana dedicated to the topic Education for a Global Community: 
 Kazakhstan International School Opens in Astana.\n\n\nPlease note that the
  open interview will be conducted in a new format\, on LinkedIn. To partic
 ipate\, kindly follow the link provided.\n\n&nbsp\;\n\n\n\nDate:\n21 May 
 (Tuesday)\, 2024\n\n\nTime:\n11.30-12.30\n\n\nFormat: \nOnline\, LinkedIn\
 n\n\nLanguage:\nEnglish\n\n\n
CATEGORIES:Business,Networking
END:VEVENT
END:VCALENDAR