BEGIN:VCALENDAR
VERSION:2.0
PRODID:-//wp-events-plugin.com//7.2.3.1//EN
BEGIN:VEVENT
UID:197@eurobak.kz
DTSTART:20250619T190000Z
DTEND:20250620T190000Z
DTSTAMP:20250617T094530Z
URL:https://eurobak.kz/events/eurobak-summer-connect/
SUMMARY:📢 Attention! Event Rescheduled: EUROBAK Summer Connect
DESCRIPTION:📢 Внимание! Перенос мероприятия EU
 ROBAK Summer Connect\n\nУважаемые участницы и парт
 нёры\,\n\nМы благодарим вас за проявленный
  интерес к мероприятию EUROBAK Summer Connect\, зап
 ланированному ранее на 20–21 июня.\n\nСообщ
 аем\, что мероприятие переносится на  се
 нтября 2025 года.\n\nВ связи с переносом буд
 ет обновлена программа\, а также изменит
 ся состав спикеров и локация проведения.
  Мы уверены\, что это позволит сделать со
 бытие ещё более содержательным и комфор
 тным для всех участниц.\n\n🔜 Все детали —
  новая программа\, подтверждённые спикер
 ы\, формат и место проведения — будут опу
 бликованы в ближайшее время.\n\nБлагодари
 м за понимание и поддержку. До скорой вст
 речи на обновлённом EUROBAK Summer Connect в сентя
 бре!\n\n&nbsp\;\n\n&nbsp\;
CATEGORIES:Networking
END:VEVENT
END:VCALENDAR