BEGIN:VCALENDAR
VERSION:2.0
PRODID:-//wp-events-plugin.com//7.2.3.1//EN
BEGIN:VEVENT
UID:19@eurobak.kz
DTSTART:20230416T213000Z
DTEND:20230417T113000Z
DTSTAMP:20230404T134408Z
URL:https://eurobak.kz/events/eurobak-round-table-on-emergency-situations/
SUMMARY:EUROBAK round table on emergency situations
DESCRIPTION:We invite you to join the meeting dedicated to the discussion o
 f how to behave in emergency situations.
CATEGORIES:Committies
LOCATION:InterContinental Hotel\, Zheltoksan\, 181\, Almaty\, Kazakhstan
X-APPLE-STRUCTURED-LOCATION;VALUE=URI;X-ADDRESS=Zheltoksan\, 181\, Almaty\,
  Kazakhstan;X-APPLE-RADIUS=100;X-TITLE=InterContinental Hotel:geo:0,0
END:VEVENT
END:VCALENDAR