BEGIN:VCALENDAR
VERSION:2.0
PRODID:-//wp-events-plugin.com//7.2.3.1//EN
BEGIN:VEVENT
UID:196@eurobak.kz
DTSTART:20250611T133000Z
DTEND:20250611T160000Z
DTSTAMP:20250611T111658Z
URL:https://eurobak.kz/events/eurobak-roof-top-summer-party/
SUMMARY:EUROBAK: Roof Top Summer Party
DESCRIPTION:Dear EUROBAK Members\,\n\nWe are pleased to invite you to the R
 oof Top Summer Party — an exclusive open-air party for CEOs and top exec
 utives of major companies!\n\nDate: 11 June (Wednesday)\n\nTime: 18:30 –
  21:00\n\nVenue: Technogym Experience Center\, 3 Rakhmadiyev Street\n\n&nb
 sp\;\nYou will enjoy an elegant atmosphere with a DJ set\, cocktails\, and
  light refreshments on a picturesque open-air terrace.\nPlease note that s
 pace is limited — don’t miss the chance to be part of a vibrant summer
  evening filled with inspiration and unforgettable connections.\nWe look f
 orward to welcoming you!\n&nbsp\;\n\nУважаемые представи
 тели компаний\, входящих в ЕВРОБАК\,\n\nЕВР
 ОБАК приглашает вас принять участие на м
 ероприятие Roof Top Summer Party — эксклюзивную в
 ечеринку под открытым небом для СЕО и то
 п-менеджеров крупных компаний!\n\nДата: 11 
 июня (среда)\n\nВремя: 18:30 – 21:00\n\nМесто: Techno
 gym Experience Center \, Рахмадиева 3\n\nВас ждёт изы
 сканная атмосфера с сетом от диджея\, кок
 тейлями и лёгкими закусками на живописн
 ой террасе под открытым небом.\n\nКоличес
 тво мест ограничено — не упустите возмо
 жность стать частью яркого летнего вече
 ра\, наполненного вдохновляющей атмосфе
 рой и незабываемыми встречами.\n\nБудем р
 ады видеть вас среди наших гостей!
CATEGORIES:Networking
END:VEVENT
END:VCALENDAR