BEGIN:VCALENDAR
VERSION:2.0
PRODID:-//wp-events-plugin.com//7.2.3.1//EN
BEGIN:VEVENT
UID:175@eurobak.kz
DTSTART:20250422T043000Z
DTEND:20250422T071000Z
DTSTAMP:20250423T133228Z
URL:https://eurobak.kz/events/eurobak-platform-for-professional-developmen
 t-of-women-in-business-and-boards-of-directors-in-astana/
SUMMARY:EUROBAK Platform for Professional Development of Women in Business 
 and Boards of Directors in Astana
DESCRIPTION:Dear EUROBAK Members\,\n\nWe are pleased to invite you to the E
 UROBAK Platform for Professional Development of Women in Business and Boar
 ds of Directors in Astana.\n\nDate: 22 April 2025\nVenue: Shanyrak Room\, 
 Rixos President Astana\, Astana\nTime: 09:30 – 12:10\nLanguage: English\
 nBreakfast will be served\n\n&nbsp\;\n\nThe agenda features two insightful
  panel discussions: Women in Diplomacy – Shaping Global Dialogue and Wom
 en in Business and Boards. Speakers and further details will be announced 
 soon.\n\nWe extend our sincere gratitude to Coca-Cola Kazakhstan\, Efes Ka
 zakhstan\, and METRO Cash &amp\; Carry for their generous support in makin
 g this event possible.\n\n&nbsp\;\n\nAbout the EUROBAK Support Platform fo
 r Women in Business and Boards\n\nLaunched in spring 2024\, this initiativ
 e fosters candid conversations on professional topics and supports women i
 n their career growth. The platform hosts diverse events\, including:\n\n 
 	 Meetings with women from various business sectors\n 	 Mentor and mentee 
 opportunities\n 	 Inspirational talks\n 	 Panel discussions\n 	 Expertise 
 and information sharing\n 	 Collaborative discussions on key topics\n\nTo 
 confirm your participation\, please complete the online registration  by 
 17 April.\n\nThe event will be held in a hybrid format\, with live streami
 ng available on EUROBAK platforms. The link to the event will be shared cl
 oser to the date.\n\n&nbsp\;\n                             
                   
CATEGORIES:Business
LOCATION:Rixos President Astana\, Kunayeva 7 street\, Astana\, Kazakhstan\,
  Kazakhstan
X-APPLE-STRUCTURED-LOCATION;VALUE=URI;X-ADDRESS=Kunayeva 7 street\, Astana\
 , Kazakhstan\, Kazakhstan;X-APPLE-RADIUS=100;X-TITLE=Rixos President Astan
 a:geo:0,0
END:VEVENT
END:VCALENDAR