BEGIN:VCALENDAR
VERSION:2.0
PRODID:-//wp-events-plugin.com//7.2.3.1//EN
BEGIN:VEVENT
UID:117@eurobak.kz
DTSTART:20240619T053000Z
DTEND:20240619T073000Z
DTSTAMP:20240612T103136Z
URL:https://eurobak.kz/events/eurobak-platform-for-professional-developmen
 t-of-women-in-business-and-boards-civil-society-and-active-citizenship/
SUMMARY:EUROBAK Platform for Professional Development of Women in Business 
 and Boards: Civil Society and Active Citizenship
DESCRIPTION:Dear EUROBAK Members\,\n\nWe would like to invite you to the ev
 ent under EUROBAK Platform for Professional Development of Women in Busine
 ss and Boards: Civil Society and Active Citizenship.\n\n\n\nDate:\n19 June
  (Wednesday)\, 2024\n\n\nTime:\n10:30-12:30\n\n\nVenue\nAlmaty\, 181 Zhel
 toksan 181\, Intercontinental Hotel\, Ablai Khan Hall (floor M)\n\n\nLangu
 age:\nRussian and English (simultaneous translation will be provided)\n\n\
 n\n&nbsp\;\n\nThis event highlights the remarkable contributions of women 
 whose efforts led to crucial amendments in the Criminal Code and Domestic 
 Violence Law\, strengthening protections for victims. The experts will sha
 re international experiences in this field\, and we will discuss how soci
 al engagement strengthens civil society and supports human rights initiati
 ves. The experts will present specific cases and explain how these amend
 ments enhance law enforcement in Kazakhstan\, strengthening the Rule of La
 w in the Republic of Kazakhstan.\n\n&nbsp\;\n\nExpert Speakers:\n\n \n\nS
 aida Taukeleva - Independent Director of LLP "SK-Pharmacy" Chairman of SPO
 E Eurasia\, Member of the Legal Chamber Adilzanger\, Head of "Public Contr
 ol and Monitoring" NGO\, volunteer at "YaAlmatinets".\n\n&nbsp\;\n\nKhalid
 a Azhigulova - lawyer\, PhD in Law from the University of Leicester (UK)\
 , Master of Laws from the University of Oxford (UK)\, Independent Director
  at the Board of Directors of the Economic Research Institute under the Mi
 nistry of National Economy of the Republic of Kazakhstan\, member of the e
 xpert councils under the Commissioner of Human Rights of Kazakhstan\, the 
 Constitutional Court of Kazakhstan\, and the National Election Committee. 
 UN international consultant on protection and investigation of sexual expl
 oitation\, abuse\, and harassment. OSCE international expert on women's po
 litical leadership. Research expert in ESG\, SDGs\, and corporate social r
 esponsibility.\n\n&nbsp\;\n\nAliya Omarova - prominent lawyer defending th
 e rights of women and children in Kazakhstan\, who represented Saltanat Nu
 kkenova's family in a criminal case\, and has also served as an attorney i
 n other high-profile cases related to the protection of women's and childr
 en's rights.\n\n\n\nThe Sponsor of the event: Grata Law Firm\n\n&nbsp\;\n\
 n                                       \n\nThe Spons
 or of the event: Wellgo   
CATEGORIES:Networking
LOCATION:InterContinental Hotel\, Zheltoksan\, 181\, Almaty\, Kazakhstan
X-APPLE-STRUCTURED-LOCATION;VALUE=URI;X-ADDRESS=Zheltoksan\, 181\, Almaty\,
  Kazakhstan;X-APPLE-RADIUS=100;X-TITLE=InterContinental Hotel:geo:0,0
END:VEVENT
END:VCALENDAR