BEGIN:VCALENDAR
VERSION:2.0
PRODID:-//wp-events-plugin.com//7.2.3.1//EN
BEGIN:VEVENT
UID:53@eurobak.kz
DTSTART:20231204T043000Z
DTEND:20231204T063000Z
DTSTAMP:20231130T021659Z
URL:https://eurobak.kz/events/eurobak-meeting-with-madina-abylkassymova-ch
 airperson-of-ardfm-rk/
SUMMARY:Meeting with Madina Abylkassymova\, Chairperson of ARDFM RK
DESCRIPTION:ESG implementation to the financial sector regulator and what k
 ind of changes have been adopted in the legislation of RK
CATEGORIES:Business
LOCATION:InterContinental Hotel\, Zheltoksan\, 181\, Almaty\, Kazakhstan
X-APPLE-STRUCTURED-LOCATION;VALUE=URI;X-ADDRESS=Zheltoksan\, 181\, Almaty\,
  Kazakhstan;X-APPLE-RADIUS=100;X-TITLE=InterContinental Hotel:geo:0,0
END:VEVENT
END:VCALENDAR