BEGIN:VCALENDAR
VERSION:2.0
PRODID:-//wp-events-plugin.com//7.2.3.1//EN
BEGIN:VEVENT
UID:40@eurobak.kz
DTSTART:20230825T094500Z
DTEND:20230825T120000Z
DTSTAMP:20230823T065642Z
URL:https://eurobak.kz/events/eurobak-meeting-with-kairat-sadvakassov-depu
 ty-chairman-of-kazakh-tourism-n%d1%81/
SUMMARY:Meeting with Kairat Sadvakassov\, Deputy Chairman of “Kazakh Tour
 ism” NС
DESCRIPTION:The meeting is dedicated to presentation and further discussion
  of the State development strategy for the tourism industry
CATEGORIES:Business
LOCATION:InterContinental Hotel\, Zheltoksan\, 181\, Almaty\, Kazakhstan
X-APPLE-STRUCTURED-LOCATION;VALUE=URI;X-ADDRESS=Zheltoksan\, 181\, Almaty\,
  Kazakhstan;X-APPLE-RADIUS=100;X-TITLE=InterContinental Hotel:geo:0,0
END:VEVENT
END:VCALENDAR