BEGIN:VCALENDAR
VERSION:2.0
PRODID:-//wp-events-plugin.com//7.2.3.1//EN
BEGIN:VEVENT
UID:72@eurobak.kz
DTSTART:20240205T050000Z
DTEND:20240205T060000Z
DTSTAMP:20240124T074236Z
URL:https://eurobak.kz/events/eurobak-meeting-on-sanctions-against-russia-
 and-belarus-compliance-and-risk-management/
SUMMARY:Webinar on Sanctions against Russia and Belarus. Compliance and ris
 k management
DESCRIPTION:The speaker will share the information about Sanctions against 
 Russia and Belarus. Compliance and risk management
CATEGORIES:Committies
END:VEVENT
END:VCALENDAR