BEGIN:VCALENDAR
VERSION:2.0
PRODID:-//wp-events-plugin.com//7.2.3.1//EN
BEGIN:VEVENT
UID:84@eurobak.kz
DTSTART:20240403T060000Z
DTEND:20240403T070000Z
DTSTAMP:20240320T091108Z
URL:https://eurobak.kz/events/eurobak-hr-committee-and-elections-of-the-ex
 ecutive-team/
SUMMARY:EUROBAK HR Committee and elections of the Executive Team
DESCRIPTION:Dear EUROBAK Members\,\n\nThis is to inform you that online mee
 ting of EUROBAK HR Committee and elections of the Executive Team will be
  held on 3 April 2024.\n\nDuring this meeting we would also discuss curren
 t HR issues and set an action plan for 2024.\n\n\n\nTime:\n11.00-12.00\n\n
 \nLanguage:  \nRussian\n\n\n\nPlease\, be informed that we have the follo
 wing nominees for the HR Executive Team:\n\n\n\nBPO Kazakhstan\nZhanar Ba
 ibekova\, Head of HR Department\n\n\nCitibank Kazakhstan\nZhanna Shigayeva
 \, Country HR Officer\n\n\nEiger Kazakhstan\nElina Dadabayeva\, CEO\n\n\nH
 aileybury Kazakhstan\nAlexandra Pak\, HR Director\n\n\nInditex Kazakhstan\
 nBogdan Stetsyura\, HR Director\n\n\nJSC Almaty International Airport\nAig
 ul Nogaibayeva\, Vice President Human Resources\n\n\nMetro Cash&amp\;Carry
 \nVictoria Chechulina\, Head of People&amp\;Culture\n\n\n\nVOTING PROCESS:
 \n\nVoting will be held online via Zoom.\n\nPlease kindly note that each c
 ompany* will have one vote. In the event of the company being represented 
 by two or more persons\, only one person will be able to vote and the comp
 any must choose which one. Other representative(s) will be transferred to 
 the waiting room while voting takes place (it should take around 5-7 minut
 es). As soon as voting is complete\, all of the participants will be re-co
 nnected to the main conference room and we will announce the results.\n\n*
 Only fully paid up Members will be eligible to vote at the Committee meeti
 ng. Please make sure your company pays up the membership fee.\n\nTo confir
 m your participation in this event please\, kindly proceed with Online Reg
 istration by 1 April.\n\nWe look forward to seeing you at the event!
CATEGORIES:Committies
END:VEVENT
END:VCALENDAR