BEGIN:VCALENDAR
VERSION:2.0
PRODID:-//wp-events-plugin.com//7.2.3.1//EN
BEGIN:VEVENT
UID:177@eurobak.kz
DTSTART:20250418T060000Z
DTEND:20250418T070000Z
DTSTAMP:20250404T114431Z
URL:https://eurobak.kz/events/eurobak-hr-committee-and-elections-of-the-ex
 ecutive-team-2/
SUMMARY:EUROBAK HR Committee and Elections of the Executive Team
DESCRIPTION:This is to inform you that online meeting of EUROBAK HR Committ
 ee and Elections of the Executive Team will be held on 18 April 2025.\n\nD
 uring this meeting we would elect the Executive team for HR Committee and 
 set an action plan for 2025-2026.\n\nDate: 18 April\n\nTime:  11.00-12.00
 \n\nLanguage: Russian\n\n&nbsp\;\n\nVOTING PROCESS:\n\nVoting will be held
  online via Zoom.\n\n&nbsp\;\n\nPlease kindly note that each company *  w
 ill have one vote. In the event of the company being represented by two or
  more persons\, only one person will be able to vote and the company must 
 choose which one. Other representative(s) will be transferred to the waiti
 ng room while voting takes place (it should take around 5-7 minutes). As s
 oon as voting is complete\, all of the participants will be re-connected t
 o the main conference room and we will announce the results.\n\n&nbsp\;\n\
 n*Only fully paid up Members will be eligible to vote at the Committee mee
 ting. Please make sure your company pays up the membership fee. \n\nTo co
 nfirm your participation in this event please\, kindly proceed with Online
  Registration by 16 April.\n\n&nbsp\;\n\nWe look forward to seeing you at 
 the event!
CATEGORIES:Committies
END:VEVENT
END:VCALENDAR