BEGIN:VCALENDAR
VERSION:2.0
PRODID:-//wp-events-plugin.com//7.2.3.1//EN
BEGIN:VEVENT
UID:28@eurobak.kz
DTSTART:20230530T050000Z
DTEND:20230530T060000Z
DTSTAMP:20230517T044917Z
URL:https://eurobak.kz/events/eurobak-healthcare-committee/
SUMMARY:EUROBAK Healthcare Committee
DESCRIPTION:Elections of the Executive Team
CATEGORIES:Committies
END:VEVENT
END:VCALENDAR