BEGIN:VCALENDAR
VERSION:2.0
PRODID:-//wp-events-plugin.com//7.2.3.1//EN
BEGIN:VEVENT
UID:176@eurobak.kz
DTSTART:20250417T060000Z
DTEND:20250417T070000Z
DTSTAMP:20250403T134051Z
URL:https://eurobak.kz/events/eurobak-healthcare-committee-elections-of-th
 e-executive-team/
SUMMARY:EUROBAK Healthcare Committee Elections of the Executive Team
DESCRIPTION:This is to inform you that online meeting of EUROBAK Healthcare
  Committee and Elections of the Executive Team will be held on 17 April 20
 25.\n\nDuring this meeting we would elect the Executive team for Healthcar
 e Committee and set an action plan for 2025-2026.\n\n&nbsp\;\n\nTime:  11
 .00-12.00\n\nLanguage: Russian\n\nFormat: Online\n\n&nbsp\;\n\nPlease\, be
  informed that we have the following nominees for the Healthcare Executive
  Team:\n\n&nbsp\;\n\nEY Kazakhstan                   Svet
 lana Ceban\, Partner\n\nGedeon Richter KZ             Pavel Khe
 gay\, Director of Representation and General Director\n\nratiopharm Kazakh
 stan       Nina Neboga\, General counsel &amp\; GR Head Kazakhstan\n
 \nSTADA Kazakhstan            Arminas Macevicius\, VP STADA Gro
 up for Eurasia\, General Manager\n\n&nbsp\;\n\nVOTING PROCESS:\n\nVoting w
 ill be held online via Zoom.\n\nPlease kindly note that each company *  w
 ill have one vote. In the event of the company being represented by two or
  more persons\, only one person will be able to vote and the company must 
 choose which one. Other representative(s) will be transferred to the waiti
 ng room while voting takes place (it should take around 5-7 minutes). As s
 oon as voting is complete\, all of the participants will be re-connected t
 o the main conference room and we will announce the results.\n\n&nbsp\;\n\
 n*Only fully paid up Members will be eligible to vote at the Committee mee
 ting. Please make sure your company pays up the membership fee. \n\n&nbsp
 \;\n\nTo confirm your participation in this event please\, kindly proceed 
 with Online Registration by 16 April.\n\n&nbsp\;\n\nWe look forward to see
 ing you at the event!
CATEGORIES:Committies
END:VEVENT
END:VCALENDAR