BEGIN:VCALENDAR
VERSION:2.0
PRODID:-//wp-events-plugin.com//7.2.3.1//EN
BEGIN:VEVENT
UID:141@eurobak.kz
DTSTART:20241211T100000Z
DTEND:20241211T120000Z
DTSTAMP:20241126T120856Z
URL:https://eurobak.kz/events/eurobak-fmcg-executive-get-together-with-efe
 s-kazakhstan/
SUMMARY:EUROBAK FMCG Executive Get Together with Efes Kazakhstan
DESCRIPTION:Dear EUROBAK Executives\,\n\n&nbsp\;\n\nWe would like to invite
  you to join EUROBAK FMCG Executive Get Together with Efes Kazakhstan\, a 
 casual gathering designed for meaningful conversations and new connections
 .\n\n&nbsp\;\n\nThe event will take place in an informal setting\, offerin
 g a relaxed atmosphere to network with peers.\n\n&nbsp\;\n\nDate: 11 Decem
 ber (Wednesday) 2024\n\nTime: 15:00 – 17:00\n\nVenue: Almaty\, 181 Zhelt
 oksan 181\, Intercontinental Hotel\, J-bar\n\nLanguage: English\n\n&nbsp\;
 \n\nTo confirm your participation\, please proceed with Online Registratio
 n or send a request to event@eurobak.kz\, no later than 9 December.\n\n&nb
 sp\;\n\nPlease kindly note that this event is open only for the executive 
 top team.
CATEGORIES:Committies
LOCATION:InterContinental Hotel\, Zheltoksan\, 181\, Almaty\, Kazakhstan
X-APPLE-STRUCTURED-LOCATION;VALUE=URI;X-ADDRESS=Zheltoksan\, 181\, Almaty\,
  Kazakhstan;X-APPLE-RADIUS=100;X-TITLE=InterContinental Hotel:geo:0,0
END:VEVENT
END:VCALENDAR