BEGIN:VCALENDAR
VERSION:2.0
PRODID:-//wp-events-plugin.com//7.2.3.1//EN
BEGIN:VEVENT
UID:30@eurobak.kz
DTSTART:20230516T050000Z
DTEND:20230516T060000Z
DTSTAMP:20230512T070657Z
URL:https://eurobak.kz/events/eurobak-fmcg-commitee/
SUMMARY:EUROBAK FMCG Commitee
DESCRIPTION:Working meeting
CATEGORIES:Committies
END:VEVENT
END:VCALENDAR