BEGIN:VCALENDAR
VERSION:2.0
PRODID:-//wp-events-plugin.com//7.2.3.1//EN
BEGIN:VEVENT
UID:263@eurobak.kz
DTSTART:20261205T140000Z
DTEND:20261205T170000Z
DTSTAMP:20251201T105342Z
URL:https://eurobak.kz/events/eurobak-festive-dinner-2026/
SUMMARY:EUROBAK Festive Dinner 2026
DESCRIPTION:
CATEGORIES:Business
END:VEVENT
END:VCALENDAR