BEGIN:VCALENDAR
VERSION:2.0
PRODID:-//wp-events-plugin.com//7.2.3.1//EN
BEGIN:VEVENT
UID:121@eurobak.kz
DTSTART:20240930T060000Z
DTEND:20240930T080000Z
DTSTAMP:20240909T050404Z
URL:https://eurobak.kz/events/eurobak-executive-get-together-opportunity-f
 or-logistics-hub-in-kazakhstan-healthcare-committee-initiative-presented-b
 y-stada-and-ey/
SUMMARY:EUROBAK Executive Get Together: Opportunity for Logistics Hub in Ka
 zakhstan – “Healthcare Committee” initiative (presented by STADA and
  EY)
DESCRIPTION:Dear EUROBAK Executives\,\n\n&nbsp\;\n\nWe would like to invite
  you to join EUROBAK Executive Get Together: Opportunity for Logistics (co
 mmercial) Hub in Kazakhstan – “Healthcare Committee” initiative (pre
 sented by STADA and EY).\n\n&nbsp\;\n\nThis event is dedicated to initiati
 ve to create a favourable regulatory and tax framework for Kazakhstan to b
 e selected as jurisdiction #1 for the establishment of Logistics (commerci
 al) Hubs for Caucasus &amp\; Central Asia. For Healthcare and Consumers bu
 sinesses and other sectors\, this would bring valuable prospects for growt
 h.\n\n&nbsp\;\n\nDuring this meeting\, we will have a presentation on the 
 HUB Project:\n\n&nbsp\;\n\n 	Arminas Macevicius\, STADA\, General Manager\
 n\n \n\n 	Svetlana Ceban\, Co-Chairperson EUROBAK Healthcare Committee\, 
 EY Kazakhstan\, Tax Partner\n\n&nbsp\;\n\nDate: 30 September (Monday) 2024
 \n\nTime: 11:00 – 13:00 (welcoming coffee and networking from 11.00 to 1
 1:30)\n\nVenue: Almaty\, 181 Zheltoksan 181\, Intercontinental Hotel\, Abl
 ai Khan Hall (floor M)\n\nLanguage: English\n\n&nbsp\;\n\nOne-time members
 hip fee for participation is 13 000 KZT/per person\n\n&nbsp\;\n\nThis eve
 nt is open to companies that are not EUROBAK members.\n\n&nbsp\;\n\nTo con
 firm your participation\, please proceed with Online Registration or send 
 a request to event@eurobak.kz\, no later than 26 September.\n\n&nbsp\;\n\n
 Please kindly note that this event is open only for the executive top team
 .
CATEGORIES:Committies
LOCATION:InterContinental Hotel\, Zheltoksan\, 181\, Almaty\, Kazakhstan
X-APPLE-STRUCTURED-LOCATION;VALUE=URI;X-ADDRESS=Zheltoksan\, 181\, Almaty\,
  Kazakhstan;X-APPLE-RADIUS=100;X-TITLE=InterContinental Hotel:geo:0,0
END:VEVENT
END:VCALENDAR