BEGIN:VCALENDAR
VERSION:2.0
PRODID:-//wp-events-plugin.com//7.2.3.1//EN
BEGIN:VEVENT
UID:270@eurobak.kz
DTSTART:20260224T070000Z
DTEND:20260224T080000Z
DTSTAMP:20260216T080736Z
URL:https://eurobak.kz/events/eurobak-esg-committee-elections-of-the-execu
 tive-team/
SUMMARY:EUROBAK ESG Committee: Elections of the Executive Team
DESCRIPTION:Dear EUROBAK Members!\n\nWe would like to invite you to a meeti
 ng of EUROBAK ESG Committee.\n\nDuring this meeting we would elect the Exe
 cutive Team and discuss an action plan of ESG Committee for 2026.\n\n&nbsp
 \;\n\nDate: 24 February 2026\n\nTime: 12.00-13.00\n\nLanguage: Russian\n\n
 Format: Online\, Zoom\n\n&nbsp\;\n\nPlease be informed that we have the fo
 llowing nominees for the ESG Executive Team:\n\n&nbsp\;\n\nAir Astana Yuli
 a Lim\, Chief Sustainability Officer\n\nCoca-Cola Alexandra Akkirman\, Pub
 lic Affairs\, Communications and Sustainability Senior Director\, Caucasus
  and Central Asia region\n\nKazakh Pharmaceutical Company "Medservice Plus
 " LLP Marzhan Khalmurzayeva\, ESG Manager\n\n&nbsp\;\n\nVOTING PROCESS:\nV
 oting will be held online via Zoom.\nPlease kindly note that each company*
  will have one vote. In the event of the company being represented by two 
 or more persons\, only one person will be able to vote\, and the company m
 ust choose which one. Other representative(s) will be transferred to the w
 aiting room while voting takes place (it should take around 5-7 minutes). 
 As soon as voting is complete\, all of the participants will be reconnecte
 d\, to the main conference room and we will announce the results.\n\n&nbsp
 \;\n\n*Only fully paid-up Members will be eligible to vote at the Committe
 e meeting. Please make sure your company pays the membership fee.\n\nTo co
 nfirm your participation\, please complete the online registration no late
 r than 23 February.
CATEGORIES:Committies
END:VEVENT
END:VCALENDAR