BEGIN:VCALENDAR
VERSION:2.0
PRODID:-//wp-events-plugin.com//7.2.3.1//EN
BEGIN:VEVENT
UID:271@eurobak.kz
DTSTART:20260218T100000Z
DTEND:20260218T110000Z
DTSTAMP:20260216T081559Z
URL:https://eurobak.kz/events/eurobak-digital-committee-elections-of-the-e
 xecutive-team/
SUMMARY:EUROBAK Digital Committee: Elections of the Executive Team
DESCRIPTION:Dear EUROBAK Members!\n\n&nbsp\;\n\nWe would like to remind you
  about the meeting of EUROBAK Digital Committee.\n\nDuring this meeting\,
  we would elect the Executive Team and discuss an action plan of Digital C
 ommittee for 2026.\n\n&nbsp\;\n\nPlease kindly find the agenda of the meet
 ing below.\n\n&nbsp\;\n\nDate: 18 February 2026\n\nTime:  15.00-16.00\n\
 nLanguage: Russian\n\nFormat: Online\, Zoom\n\n&nbsp\;\n\nWhen joining the
  Zoom conference\, please kindly indicate you full name\, and name of the 
 company.\n\n&nbsp\;\n\n&nbsp\;\n\nPlease be informed that we have the foll
 owing nominees for the Digital Executive Team:\n\n&nbsp\;\n\n&nbsp\;\n\nBa
 ker McKenzie Kazakhstan Andrei Yorsh\, Partner\n\nErnst&amp\;Young Kazakhs
 tan Dinara Tanasheva\, Tax&amp\;Law Services Partner\n\nNielsen Dmitriy Dr
 okin\, Commercial Director\n\n&nbsp\;\n\nVOTING PROCESS: Voting will be he
 ld online via Zoom. Please kindly note that each company* will have one vo
 te. In the event of the company being represented by two or more persons\,
  only one person will be able to vote\, and the company must choose which 
 one. Other representative(s) will be transferred to the waiting room while
  voting takes place (it should take around 5-7 minutes). As soon as voting
  is complete\, all of the participants will be reconnected\, to the main c
 onference room and we will announce the results.\n\n&nbsp\;\n\n*Only fully
  paid-up Members will be eligible to vote at the Committee meeting. Please
  make sure your company pays the membership fee.  \n\nTo confirm your par
 ticipation\, please complete the online registration no later than 17 Feb
 ruary.
CATEGORIES:Committies
END:VEVENT
END:VCALENDAR