BEGIN:VCALENDAR
VERSION:2.0
PRODID:-//wp-events-plugin.com//7.2.3.1//EN
BEGIN:VEVENT
UID:86@eurobak.kz
DTSTART:20241018T120000Z
DTEND:20241018T150000Z
DTSTAMP:20241017T050500Z
URL:https://eurobak.kz/events/eurobak-csr-awards/
SUMMARY:EUROBAK Awards Ceremony
DESCRIPTION:Dear EUROBAK Members\,\n\nWe would like to invite you to attend
  «EUROBAK Award Ceremony» on 18 October 2024.\n\n \n\nEUROBAK Award Cer
 emony is dedicated to celebrating commendable social initiatives as well a
 s outstanding achievements in Marketing\, Human Development\, and IT acros
 s various industries.\n\n&nbsp\;\n\n\n\nDate:\n18 October (Friday)\, 2024\
 n\n\nTime:\n17.00-20.00\n\n\nVenue:\nBall Room\, L-floor\, InterContinenta
 l Hotel\, 181 Zheltoksan Str.\n\n\nLanguage:\nEnglish\n\n\nDress code:\nBu
 siness attire\n\n\n\n&nbsp\;\n\nWe are proud to share that this year\, we'
 ve received a record-breaking response of 46 projects\, spanning across 5 
 pivotal categories:\n\n&nbsp\;\n\n 	Corporate Social Responsibility (CSR)\
 n 	Environmental projects\n 	Human resource management\n 	Marketing and PR
 \n 	Information technology and modernization\n\n&nbsp\;\n\nDuring the Cere
 mony we will announce the most significant projects in each category\, sel
 ected by the Members of the Jury.\n\n&nbsp\;\n\nThis ceremony is not just 
 an awards event\, but a testament to the dedication\, creativity\, and bri
 lliance of our Members in driving positive change in their respective fiel
 ds. We wholeheartedly believe your presence would further elevate the sign
 ificance of this occasion.\n\n&nbsp\;\n\nTo confirm your participation\, p
 lease kindly proceed with online registration by October 15. One-time memb
 ership fee for participation is 28 000 KZT / per person.\n\n \n\nSponsor
  of the event: EMPATIA\n\n \n\nPartners of the event: CCI Kazakhstan\, Pe
 rnod Ricard Kazakhstan\n\n**** **** **** ****\n\n&nbsp\;\n\nУважаем
 ые представители компаний\, входящих в Е
 ВРОБАК\,\n\n&nbsp\;\n\nМы хотели бы пригласить 
 вас на «Церемонию награждения ЕВРОБАК»\,
  которая состоится 18 октября 2024.\n\n&nbsp\;\n\n
 Церемония награждения ЕВРОБАК посвящен
 а чествованию социальных инициатив\, а т
 акже выдающихся достижений компаний в о
 бласти маркетинга\, развития персонала и
  информационных технологий.\n\n&nbsp\;\n\n\n\nДа
 та:\n18 октября (пятница)\, 2024\n\n\nВремя:\n17.00-2
 0.00\n\n\nМесто:\nБальный Зал \, L-этаж\, гостин
 ица InterContinental\, ул. Желтоксан\, 181.\n\n\nЯзык:\n
 Английский\n\n\nДресс-код:\nДеловой\n\n\n\n&nbsp\
 ;\n\nВ этом году мы получили 46 заявок по пр
 оектам в 5 ключевых категориях:\n\n&nbsp\;\n\n 	
 Корпоративная социальная ответственнос
 ть (CSR)\n 	Проекты\, связанные с экологией\n 
 	Управление человеческими ресурсами\n 	М
 аркетинг и PR\n 	Информационные технологи
 и и модернизация\n\n&nbsp\;\n\nВо время церемо
 нии мы объявим наиболее значимые проект
 ы в каждой категории\, выбранные членами 
 жюри.\n\n&nbsp\;\n\nЭта церемония не просто мер
 оприятие по вручению наград\, но и свидет
 ельство творчества и блестящих способно
 стей наших членов в осуществлении полож
 ительных изменений в своих областях. Мы 
 искренне верим\, что ваше участие придас
 т этому случаю особый статус.\n\n&nbsp\;\n\nДля
  подтверждения вашего участия\, пожалуйс
 та\, пройдите онлайн-регистрацию до 15 окт
 ября. Единоразовый членский взнос за уча
 стие составляет 28 000 тг / на человека.\n\n&nbs
 p\;\n\nСпонсор мероприятия: EMPATIA\n\n \n\nПартн
 еры мероприятия: CCI Kazakhstan\, Pernod Ricard Kazakhstan
CATEGORIES:Business,Networking
LOCATION:InterContinental Hotel\, Zheltoksan\, 181\, Almaty\, Kazakhstan
X-APPLE-STRUCTURED-LOCATION;VALUE=URI;X-ADDRESS=Zheltoksan\, 181\, Almaty\,
  Kazakhstan;X-APPLE-RADIUS=100;X-TITLE=InterContinental Hotel:geo:0,0
END:VEVENT
END:VCALENDAR