BEGIN:VCALENDAR
VERSION:2.0
PRODID:-//wp-events-plugin.com//7.2.3.1//EN
BEGIN:VEVENT
UID:267@eurobak.kz
DTSTART:20261015T113000Z
DTEND:20261015T143000Z
DTSTAMP:20260316T102654Z
URL:https://eurobak.kz/events/eurobak-award-ceremony-2/
SUMMARY:EUROBAK Award Ceremony
DESCRIPTION:Dear EUROBAK Members\,\n\n\n\nWe would like to invite you to at
 tend «EUROBAK Award Ceremony» on 15 October 2026.\n\n \n\nEUROBAK Awar
 d Ceremony is dedicated to celebrating commendable social initiatives as w
 ell as outstanding achievements in Marketing\, Human Development\, and IT 
 across various industries.\n\n\n\nDate:\n15 October (Thursday)\, 2025\n\n\
 nTime:\n16.30-19.30\n\n\nVenue:\nBall Room\, L Floor\, InterContinental Ho
 tel\, 181 Zheltoksan Str.\n\n\nLanguage:\nEnglish\n\n\nDress code:\nBusine
 ss attire\n\n\n\n\n\n\n&nbsp\;\n\n&nbsp\;\n\nDuring the Ceremony\, we will
  proudly announce the most significant projects in each category\, careful
 ly selected by the Members of the Jury.\n\n This ceremony is not just an 
 awards event\, but a testament to the dedication\, creativity\, and brilli
 ance of our Members in driving positive change in their respective fields.
 \n\nWe wholeheartedly believe your presence will further elevate the signi
 ficance of this occasion.\n\n
CATEGORIES:Business
END:VEVENT
END:VCALENDAR