BEGIN:VCALENDAR
VERSION:2.0
PRODID:-//wp-events-plugin.com//7.2.3.1//EN
BEGIN:VEVENT
UID:83@eurobak.kz
DTSTART:20241026T053000Z
DTEND:20241026T113000Z
DTSTAMP:20240905T054107Z
URL:https://eurobak.kz/events/eurobak-19th-bowling-tournament/
SUMMARY:EUROBAK 19th Bowling Tournament
DESCRIPTION:\n\nDear EUROBAK Members\,\n\nWe would like to invite you to pa
 rticipate in EUROBAK 19th Bowling Tournament on October 26\, 2024.\n\n&n
 bsp\;\n\nTo confirm your participation please\, fill in the Preliminary Ap
 plication Form (enclosed) and send it to manager@eurobak.kz no later than
  4 October\, 17.00.\n\nBelow you may find the general rules of the Tournam
 ent:\n\nThe tournament will be held if not less than 12 teams will confirm
  participation. If not enough teams register\, we will have to postpone th
 e Tournament\;\n\nEach team consists of not more than 12 people (5 player
 s + 7 fans/reserve players). Participation of at least one member of the t
 op management team is required\;\n\nEach team should:\n\n-        conf
 irm that all team members have agreed with the Rules &amp\; Regulations of
  the Tournament (Attachment 1) and send a signed copy to manager@eurobak.k
 z by October 19\;\n\n-        submit the Final Entry Form\, signed by
  all team members and the head of the company (Attachment 2)\nthe original
  form should be provided no later than 19 October\;\n\n-        submit
  a Confirmation Letter on the company’s letterhead\, signed by the head 
 of the company (Attachment 3)\nthe original of the form should be provided
  no later than 19 October\;\n\n-        pay a one-time membership fee:
  220\,000 KZT.\n\nNote: during the Tournament participants will be provide
 d with beverages and snacks\n\n\nShould you have any questions\, please\, 
 feel free to contact Evgeniia Potlova by e-mail: manager@eurobak.kz or by
  phone +7 705 236 55 73.\n\nWe look forward to seeing you at this much-ant
 icipated event!\n\nУважаемые представители комп
 аний\, входящих в ЕВРОБАК\,\n\nПриглашаем в
 ас принять участие в 19м Турнире по Боули
 нгу ЕВРОБАК\, который состоится 26 октябр
 я 2024.\n\nДля подтверждения участия заполн
 ите Предварительную заявочную форму (пр
 илагается) и отправьте ее на адрес manager@eur
 obak.kz не позднее 17.00\, 4 октября.\n\nНиже вы м
 ожете ознакомиться с общими правилами Т
 урнира:\n\nТурнир состоится\, если участие
  подтвердят не менее 12 команд. Если зарег
 истрируется недостаточное количество к
 оманд\, проведение Турнира будет отложен
 о\;\n\n 	Каждая команда состоит не более че
 м из 12 человек (5 игроков + 7 болельщиков/з
 апасных игроков). В команде должен быть к
 ак минимум один представитель Топ менед
 жмента Компании\;\n\n&nbsp\;\n\nКаждая команда 
 должна:\n\n-        подтвердить\, что все чл
 ены команды ознакомлены и согласны с Пра
 вилами и Положением Турнира (Приложение 
 1) и направить копию подписанных правил н
 а адрес manager@eurobak.kz до 19 октября\;\n\n-       
  представить финальную заявочную форму\,
  подписанную всеми членами команды и рук
 оводителем компании (Приложение 2)\nориги
 нал формы необходимо предоставить не по
 зднее 19 октября\;\n\n-        предоставить П
 исьмо-подтверждение на бланке компании\,
  подписанное руководителем компании (Пр
 иложение 3)\nоригинал формы необходимо пр
 едоставить не позднее 19 октября\;\n\n-      
   оплатить единовременный членский взно
 с: 220 000 тенге.\n\nПримечание: в ходе игры уч
 астникам предоставляются только напитк
 и и легкие закуски\n\nЕсли у Вас возникнут
  вопросы\, пожалуйста\, обращайтесь к Евг
 ении Потловой по электронной почте: manager@
 eurobak.kz или по телефону +7 705 236 55 73\n\nБудем р
 ады видеть вас на этом долгожданном меро
 приятии!
CATEGORIES:Networking,Sport
END:VEVENT
END:VCALENDAR