BEGIN:VCALENDAR
VERSION:2.0
PRODID:-//wp-events-plugin.com//7.2.3.1//EN
BEGIN:VEVENT
UID:42@eurobak.kz
DTSTART:20231028T040000Z
DTEND:20231028T090000Z
DTSTAMP:20230829T031713Z
URL:https://eurobak.kz/events/eurobak-18th-bowling-tournament/
SUMMARY:EUROBAK 18th Bowling Tournament
DESCRIPTION:For more details please send a request to manager@eurobak.kz
CATEGORIES:Sport
END:VEVENT
END:VCALENDAR